BEGIN:VCALENDAR
VERSION:2.0
PRODID:-//AudioTheme 2.3.8
BEGIN:VEVENT
UID:urn:uuid:9e53d829-0025-4ba2-bab4-b1891ec64af4
URL:https://mitchmcvicker.com/concerts/gig-3067/
DTSTART;VALUE=DATE:20020614
SUMMARY:Mid Summer Celebration-Spirit Baptist Church
LOCATION:Mid Summer Celebration-Spirit Baptist Church\, Tomahawk\, WI
END:VEVENT
END:VCALENDAR
