BEGIN:VCALENDAR
VERSION:2.0
PRODID:-//AudioTheme 2.3.8
BEGIN:VEVENT
UID:urn:uuid:eb37913b-143c-4ea7-90b8-50c0f62d3bcc
URL:https://mitchmcvicker.com/concerts/gig-3065/
DTSTART;VALUE=DATE:20020524
SUMMARY:Potter's Cup Coffeehouse
LOCATION:Potter's Cup Coffeehouse\, Bloomington\, IN
END:VEVENT
END:VCALENDAR
