BEGIN:VCALENDAR
VERSION:2.0
PRODID:-//AudioTheme 2.3.8
BEGIN:VEVENT
UID:urn:uuid:f017feb6-ed05-46a8-b2db-c773b7800ff7
URL:https://mitchmcvicker.com/concerts/gig-3063/
DTSTART;VALUE=DATE:20020522
SUMMARY:Enter Net Cafe
LOCATION:Enter Net Cafe\, West Union\, OH
END:VEVENT
END:VCALENDAR
