BEGIN:VCALENDAR
VERSION:2.0
PRODID:-//AudioTheme 2.3.8
BEGIN:VEVENT
UID:urn:uuid:36a1e996-5754-4f49-b456-8fa8c94ae172
URL:https://mitchmcvicker.com/concerts/gig-3059/
DTSTART;VALUE=DATE:20020518
SUMMARY:DeMack High School-Benefit Concert for Nathan Carl
LOCATION:DeMack High School-Benefit Concert for Nathan Carl\, Makinaw\, IL
END:VEVENT
END:VCALENDAR
