BEGIN:VCALENDAR
VERSION:2.0
PRODID:-//AudioTheme 2.3.8
BEGIN:VEVENT
UID:urn:uuid:7315ecc5-4c68-48ae-b665-9c4bca2277c5
URL:https://mitchmcvicker.com/concerts/gig-3058/
DTSTART;VALUE=DATE:20020517
SUMMARY:Praise Coffeehouse
LOCATION:Praise Coffeehouse\, Greenville\, IL
END:VEVENT
END:VCALENDAR
