BEGIN:VCALENDAR
VERSION:2.0
PRODID:-//AudioTheme 2.3.8
BEGIN:VEVENT
UID:urn:uuid:7e720e54-6a30-4663-9016-f8209907481b
URL:https://mitchmcvicker.com/concerts/gig-3056/
DTSTART;VALUE=DATE:20020509
SUMMARY:Reardon Auditorium, Anderson College
LOCATION:Reardon Auditorium\, Anderson College\, Anderson\, IN
END:VEVENT
END:VCALENDAR
