BEGIN:VCALENDAR
VERSION:2.0
PRODID:-//AudioTheme 2.3.8
BEGIN:VEVENT
UID:urn:uuid:f4405aef-9b77-4fc4-a166-601d79681e27
URL:https://mitchmcvicker.com/concerts/gig-3054/
DTSTART;VALUE=DATE:20020505
SUMMARY:The Church of Faith, Hope, and Love
LOCATION:The Church of Faith\, Hope\, and Love\, Kernersville\, NC
END:VEVENT
END:VCALENDAR
