BEGIN:VCALENDAR
VERSION:2.0
PRODID:-//AudioTheme 2.3.8
BEGIN:VEVENT
UID:urn:uuid:e80cc704-d7dc-43b1-9e1b-4fbc1a17f0f0
URL:https://mitchmcvicker.com/concerts/gig-3052/
DTSTART;VALUE=DATE:20020505
SUMMARY:Adams Farm Community Church
LOCATION:Adams Farm Community Church\, Jamestown\, NC
END:VEVENT
END:VCALENDAR
