BEGIN:VCALENDAR
VERSION:2.0
PRODID:-//AudioTheme 2.3.8
BEGIN:VEVENT
UID:urn:uuid:3cefa3b5-271a-4cf0-9b6f-31323d5c36e8
URL:https://mitchmcvicker.com/concerts/gig-3051/
DTSTART;VALUE=DATE:20020504
SUMMARY:Mt. Hermon Lutheran Church
LOCATION:Mt. Hermon Lutheran Church\, 3011 Leaphart Rd.\, West Columbia\, SC
END:VEVENT
END:VCALENDAR
