BEGIN:VCALENDAR
VERSION:2.0
PRODID:-//AudioTheme 2.3.8
BEGIN:VEVENT
UID:urn:uuid:aa341747-770e-4a4d-8f8a-d04dc437e7fa
URL:https://mitchmcvicker.com/concerts/gig-3049/
DTSTART;VALUE=DATE:20020503
SUMMARY:Master's Loft Coffeehouse
LOCATION:Master's Loft Coffeehouse\, Greensboro\, NC
END:VEVENT
END:VCALENDAR
