BEGIN:VCALENDAR
VERSION:2.0
PRODID:-//AudioTheme 2.3.8
BEGIN:VEVENT
UID:urn:uuid:28635c8e-56c8-4d84-9b1c-1b0c37594199
URL:https://mitchmcvicker.com/concerts/gig-3047/
DTSTART;VALUE=DATE:20020503
SUMMARY:WMHK 89.7 FM-on air interview and music
LOCATION:WMHK 89.7 FM-on air interview and music\, Columbia\, SC
END:VEVENT
END:VCALENDAR
