BEGIN:VCALENDAR
VERSION:2.0
PRODID:-//AudioTheme 2.3.8
BEGIN:VEVENT
UID:urn:uuid:6a510040-5f0e-48df-b53b-e0fbe8ea323c
URL:https://mitchmcvicker.com/concerts/gig-3045/
DTSTART;VALUE=DATE:20020430
SUMMARY:First Farragut United Methodist Church
LOCATION:First Farragut United Methodist Church\, Knoxville\, TN
END:VEVENT
END:VCALENDAR
