BEGIN:VCALENDAR
VERSION:2.0
PRODID:-//AudioTheme 2.3.8
BEGIN:VEVENT
UID:urn:uuid:b9005563-4533-4569-ba56-22b5bab02e2b
URL:https://mitchmcvicker.com/concerts/gig-3044/
DTSTART;VALUE=DATE:20020428
SUMMARY:LeClaire Christian Church
LOCATION:LeClaire Christian Church\, Edwardsville\, IL
END:VEVENT
END:VCALENDAR
