BEGIN:VCALENDAR
VERSION:2.0
PRODID:-//AudioTheme 2.3.8
BEGIN:VEVENT
UID:urn:uuid:aea05570-c663-4af8-92e9-ee4af48f17b8
URL:https://mitchmcvicker.com/concerts/gig-3043/
DTSTART;VALUE=DATE:20020420
SUMMARY:New City Cafe
LOCATION:New City Cafe\, Knoxville\, TN
END:VEVENT
END:VCALENDAR
