BEGIN:VCALENDAR
VERSION:2.0
PRODID:-//AudioTheme 2.3.8
BEGIN:VEVENT
UID:urn:uuid:787cb83c-8735-46af-8cd5-e2f4623ad578
URL:https://mitchmcvicker.com/concerts/gig-3041/
DTSTART;VALUE=DATE:20020412
SUMMARY:Florence Middle School Auditorium
LOCATION:Florence Middle School Auditorium\, Florence\, MS
END:VEVENT
END:VCALENDAR
