BEGIN:VCALENDAR
VERSION:2.0
PRODID:-//AudioTheme 2.3.8
BEGIN:VEVENT
UID:urn:uuid:550c7e7f-6a05-439c-9831-c0e63ca8c51a
URL:https://mitchmcvicker.com/concerts/gig-3039/
DTSTART;VALUE=DATE:20020408
SUMMARY:Wheaton College Morning Chapel
LOCATION:Wheaton College Morning Chapel\, Wheaton\, IL
END:VEVENT
END:VCALENDAR
