BEGIN:VCALENDAR
VERSION:2.0
PRODID:-//AudioTheme 2.3.8
BEGIN:VEVENT
UID:urn:uuid:82fab1b9-087f-4a1b-88cf-32a15e65616b
URL:https://mitchmcvicker.com/concerts/gig-3037/
DTSTART;VALUE=DATE:20020406
SUMMARY:Avery Presbyterian Church
LOCATION:Avery Presbyterian Church\, Bellevue\, NE
END:VEVENT
END:VCALENDAR
