BEGIN:VCALENDAR
VERSION:2.0
PRODID:-//AudioTheme 2.3.8
BEGIN:VEVENT
UID:urn:uuid:11a03810-6547-49a3-9e13-2a22bababb57
URL:https://mitchmcvicker.com/concerts/gig-3035/
DTSTART;VALUE=DATE:20020405
SUMMARY:Wanamaker Woods Church of the Nazarene
LOCATION:Wanamaker Woods Church of the Nazarene\, Topeka\, KS
END:VEVENT
END:VCALENDAR
