BEGIN:VCALENDAR
VERSION:2.0
PRODID:-//AudioTheme 2.3.8
BEGIN:VEVENT
UID:urn:uuid:8c0146b4-8585-4d9b-83d1-870ab2ab5b8e
URL:https://mitchmcvicker.com/concerts/gig-3033/
DTSTART;VALUE=DATE:20020320
SUMMARY:700 Club-ABC Family Channel-taped appearance
LOCATION:700 Club-ABC Family Channel-taped appearance\, New York City\, NY
END:VEVENT
END:VCALENDAR
