BEGIN:VCALENDAR
VERSION:2.0
PRODID:-//AudioTheme 2.3.8
BEGIN:VEVENT
UID:urn:uuid:699a6c32-41a5-431d-ac16-89dba50093c1
URL:https://mitchmcvicker.com/concerts/gig-3031/
DTSTART;VALUE=DATE:20020316
SUMMARY:Osseo Community Church
LOCATION:Osseo Community Church\, Osseo\, WI
END:VEVENT
END:VCALENDAR
