BEGIN:VCALENDAR
VERSION:2.0
PRODID:-//AudioTheme 2.3.8
BEGIN:VEVENT
UID:urn:uuid:9c2afe56-3a89-443c-91d0-3e2911a0becf
URL:https://mitchmcvicker.com/concerts/gig-3029/
DTSTART;VALUE=DATE:20020315
SUMMARY:Nekoosa High School Auditorium
LOCATION:Nekoosa High School Auditorium\, Nakoosa\, WI
END:VEVENT
END:VCALENDAR
