BEGIN:VCALENDAR
VERSION:2.0
PRODID:-//AudioTheme 2.3.8
BEGIN:VEVENT
UID:urn:uuid:1e79487b-9d52-49e9-9e3f-f8d1f3267f48
URL:https://mitchmcvicker.com/concerts/gig-3027/
DTSTART;VALUE=DATE:20020309
SUMMARY:Grace Evangelical Church
LOCATION:Grace Evangelical Church\, Elgin\, IL
END:VEVENT
END:VCALENDAR
