BEGIN:VCALENDAR
VERSION:2.0
PRODID:-//AudioTheme 2.3.8
BEGIN:VEVENT
UID:urn:uuid:2b0f44dc-0b8c-46f1-bde4-394fe4c16040
URL:https://mitchmcvicker.com/concerts/gig-3025/
DTSTART;VALUE=DATE:20020306
SUMMARY:Paynesville High School "New" Auditorium
LOCATION:Paynesville High School "New" Auditorium\, Paynesville\, MN
END:VEVENT
END:VCALENDAR
