BEGIN:VCALENDAR
VERSION:2.0
PRODID:-//AudioTheme 2.3.8
BEGIN:VEVENT
UID:urn:uuid:c6f1e14c-4500-4f22-9fbe-d5dacf1aacdd
URL:https://mitchmcvicker.com/concerts/gig-3023/
DTSTART;VALUE=DATE:20020304
SUMMARY:Salem Lutheran Church
LOCATION:Salem Lutheran Church\, St. Cloud\, MN
END:VEVENT
END:VCALENDAR
