BEGIN:VCALENDAR
VERSION:2.0
PRODID:-//AudioTheme 2.3.8
BEGIN:VEVENT
UID:urn:uuid:b1221b84-bdd8-4e9d-8ac6-9cfdf2129452
URL:https://mitchmcvicker.com/concerts/gig-3021/
DTSTART;VALUE=DATE:20020303
SUMMARY:Washington Auditorium
LOCATION:Washington Auditorium\, Litchfield\, MN
END:VEVENT
END:VCALENDAR
