BEGIN:VCALENDAR
VERSION:2.0
PRODID:-//AudioTheme 2.3.8
BEGIN:VEVENT
UID:urn:uuid:b2184ea4-ac5b-44b2-bddf-dcc239ec0b64
URL:https://mitchmcvicker.com/concerts/gig-3020/
DTSTART;VALUE=DATE:20020302
SUMMARY:Cup O'Joy Coffeehouse
LOCATION:Cup O'Joy Coffeehouse\, Green Bay\, WI
END:VEVENT
END:VCALENDAR
