BEGIN:VCALENDAR
VERSION:2.0
PRODID:-//AudioTheme 2.3.8
BEGIN:VEVENT
UID:urn:uuid:e2676173-060f-4d10-a388-bfb1c8504dc5
URL:https://mitchmcvicker.com/concerts/gig-3019/
DTSTART;VALUE=DATE:20020301
SUMMARY:Blind Munchies Coffeehouse
LOCATION:Blind Munchies Coffeehouse\, Menomonie\, WI
END:VEVENT
END:VCALENDAR
