BEGIN:VCALENDAR
VERSION:2.0
PRODID:-//AudioTheme 2.3.8
BEGIN:VEVENT
UID:urn:uuid:446b5bc2-2c02-49d8-85f7-1945ad64f1a9
URL:https://mitchmcvicker.com/concerts/gig-3017/
DTSTART;VALUE=DATE:20020209
SUMMARY:Calvary United Methodist Church
LOCATION:Calvary United Methodist Church\, Jackson\, MI
END:VEVENT
END:VCALENDAR
