BEGIN:VCALENDAR
VERSION:2.0
PRODID:-//AudioTheme 2.3.8
BEGIN:VEVENT
UID:urn:uuid:6ddd70ba-0947-4f7b-88a7-77cf3919fc5f
URL:https://mitchmcvicker.com/concerts/gig-3015/
DTSTART;VALUE=DATE:20020208
SUMMARY:St. Paul's Lutheran Church
LOCATION:St. Paul's Lutheran Church\, Upper Sandusky\, OH
END:VEVENT
END:VCALENDAR
