BEGIN:VCALENDAR
VERSION:2.0
PRODID:-//AudioTheme 2.3.8
BEGIN:VEVENT
UID:urn:uuid:5eab621c-d935-43ad-a1a2-00ea0a09de66
URL:https://mitchmcvicker.com/concerts/gig-3012/
DTSTART;VALUE=DATE:20020201
SUMMARY:Richardson Church of the Nazarene
LOCATION:Richardson Church of the Nazarene\, Richardson\, TX
END:VEVENT
END:VCALENDAR
