BEGIN:VCALENDAR
VERSION:2.0
PRODID:-//AudioTheme 2.3.8
BEGIN:VEVENT
UID:urn:uuid:663fe675-7fc1-4722-aa1e-cc35ab0bed28
URL:https://mitchmcvicker.com/concerts/gig-3010/
DTSTART;VALUE=DATE:20020120
SUMMARY:Northwest Avenue Church of Christ
LOCATION:Northwest Avenue Church of Christ\, Talmadge\, OH
END:VEVENT
END:VCALENDAR
