BEGIN:VCALENDAR
VERSION:2.0
PRODID:-//AudioTheme 2.3.8
BEGIN:VEVENT
UID:urn:uuid:85c80398-fae5-4907-889f-bdcd13c707a3
URL:https://mitchmcvicker.com/concerts/gig-3008/
DTSTART;VALUE=DATE:20031113
SUMMARY:Beltway Baptist Church
LOCATION:Beltway Baptist Church\, Abilene\, TX
END:VEVENT
END:VCALENDAR
