BEGIN:VCALENDAR
VERSION:2.0
PRODID:-//AudioTheme 2.3.8
BEGIN:VEVENT
UID:urn:uuid:9d586bc7-a5e6-4e7c-ba48-40fe23184f20
URL:https://mitchmcvicker.com/concerts/gig-3006/
DTSTART;VALUE=DATE:20031111
SUMMARY:Victory Church
LOCATION:Victory Church\, Camden\, AR
END:VEVENT
END:VCALENDAR
