BEGIN:VCALENDAR
VERSION:2.0
PRODID:-//AudioTheme 2.3.8
BEGIN:VEVENT
UID:urn:uuid:03d75e1f-b0d4-48c7-ac77-1a9e29df36ec
URL:https://mitchmcvicker.com/concerts/gig-3004/
DTSTART;VALUE=DATE:20031108
SUMMARY:First Baptist Church of Natchez
LOCATION:First Baptist Church of Natchez\, Natchez\, MS
END:VEVENT
END:VCALENDAR
