BEGIN:VCALENDAR
VERSION:2.0
PRODID:-//AudioTheme 2.3.8
BEGIN:VEVENT
UID:urn:uuid:138a5411-c58e-4e84-9214-c534399ffbf1
URL:https://mitchmcvicker.com/concerts/gig-3002/
DTSTART;VALUE=DATE:20031107
SUMMARY:Dauphin Way Baptist Church
LOCATION:Dauphin Way Baptist Church\, Mobile\, AL
END:VEVENT
END:VCALENDAR
