BEGIN:VCALENDAR
VERSION:2.0
PRODID:-//AudioTheme 2.3.8
BEGIN:VEVENT
UID:urn:uuid:985ec4e3-ec65-4ed1-a216-d2216933d2c9
URL:https://mitchmcvicker.com/concerts/gig-3000/
DTSTART;VALUE=DATE:20031106
SUMMARY:Gardendale Baptist Church
LOCATION:Gardendale Baptist Church\, Gardendale\, AL
END:VEVENT
END:VCALENDAR
