BEGIN:VCALENDAR
VERSION:2.0
PRODID:-//AudioTheme 2.3.8
BEGIN:VEVENT
UID:urn:uuid:4706b276-b5e6-4c65-b6e2-27e4d5216f47
URL:https://mitchmcvicker.com/concerts/gig-2998/
DTSTART;VALUE=DATE:20031031
SUMMARY:Third Reformed Church
LOCATION:Third Reformed Church\, Pella\, IA
END:VEVENT
END:VCALENDAR
