BEGIN:VCALENDAR
VERSION:2.0
PRODID:-//AudioTheme 2.3.8
BEGIN:VEVENT
UID:urn:uuid:9a52ef64-69e0-43a2-96d3-5eab70009632
URL:https://mitchmcvicker.com/concerts/gig-2996/
DTSTART;VALUE=DATE:20031030
SUMMARY:Cedar Valley Community Church
LOCATION:Cedar Valley Community Church\, Waterloo\, IA
END:VEVENT
END:VCALENDAR
