BEGIN:VCALENDAR
VERSION:2.0
PRODID:-//AudioTheme 2.3.8
BEGIN:VEVENT
UID:urn:uuid:6e5ee4db-ae24-4f1b-822e-a690e16851b2
URL:https://mitchmcvicker.com/concerts/gig-2994/
DTSTART;VALUE=DATE:20031026
SUMMARY:United Local High School Auditorium
LOCATION:United Local High School Auditorium\, Hanoverton\, OH
END:VEVENT
END:VCALENDAR
