BEGIN:VCALENDAR
VERSION:2.0
PRODID:-//AudioTheme 2.3.8
BEGIN:VEVENT
UID:urn:uuid:de721ce8-f928-4e2b-a35a-54df5c41e09d
URL:https://mitchmcvicker.com/concerts/gig-2992/
DTSTART;VALUE=DATE:20031025
SUMMARY:Central Church of the Nazarene
LOCATION:Central Church of the Nazarene\, Flint\, MI
END:VEVENT
END:VCALENDAR
