BEGIN:VCALENDAR
VERSION:2.0
PRODID:-//AudioTheme 2.3.8
BEGIN:VEVENT
UID:urn:uuid:cf53e009-5ce5-447a-a800-59c2335dbc7c
URL:https://mitchmcvicker.com/concerts/gig-2990/
DTSTART;VALUE=DATE:20031023
SUMMARY:Immanuel Baptist Church
LOCATION:Immanuel Baptist Church\, Lexington\, KY
END:VEVENT
END:VCALENDAR
