BEGIN:VCALENDAR
VERSION:2.0
PRODID:-//AudioTheme 2.3.8
BEGIN:VEVENT
UID:urn:uuid:69d31cc9-4395-48f5-b278-8ae182f8dcd2
URL:https://mitchmcvicker.com/concerts/gig-2988/
DTSTART;VALUE=DATE:20031019
SUMMARY:First Baptist Church
LOCATION:First Baptist Church\, Maryville\, TN
END:VEVENT
END:VCALENDAR
