BEGIN:VCALENDAR
VERSION:2.0
PRODID:-//AudioTheme 2.3.8
BEGIN:VEVENT
UID:urn:uuid:1113b51c-4d78-422c-87c4-05ee83a77494
URL:https://mitchmcvicker.com/concerts/gig-2986/
DTSTART;VALUE=DATE:20031018
SUMMARY:Sandy Springs United Methodist Church
LOCATION:Sandy Springs United Methodist Church\, Atlanta\, GA
END:VEVENT
END:VCALENDAR
