BEGIN:VCALENDAR
VERSION:2.0
PRODID:-//AudioTheme 2.3.8
BEGIN:VEVENT
UID:urn:uuid:a87ce4e1-400b-45a4-b6e6-e1884bc72515
URL:https://mitchmcvicker.com/concerts/gig-2984/
DTSTART;VALUE=DATE:20031017
SUMMARY:Calvary Baptist Church
LOCATION:Calvary Baptist Church\, Wilmington\, NC
END:VEVENT
END:VCALENDAR
