BEGIN:VCALENDAR
VERSION:2.0
PRODID:-//AudioTheme 2.3.8
BEGIN:VEVENT
UID:urn:uuid:56316acd-6d06-44c4-83c6-b83269f5a9d8
URL:https://mitchmcvicker.com/concerts/gig-2982/
DTSTART;VALUE=DATE:20031016
SUMMARY:Faith Assembly of God
LOCATION:Faith Assembly of God\, Summerville\, SC
END:VEVENT
END:VCALENDAR
