BEGIN:VCALENDAR
VERSION:2.0
PRODID:-//AudioTheme 2.3.8
BEGIN:VEVENT
UID:urn:uuid:99131cbe-08a4-472a-b1ac-674482b5b3bd
URL:https://mitchmcvicker.com/concerts/gig-2980/
DTSTART;VALUE=DATE:20031011
SUMMARY:Fairview Area School
LOCATION:Fairview Area School\, Fairview\, MI
END:VEVENT
END:VCALENDAR
