BEGIN:VCALENDAR
VERSION:2.0
PRODID:-//AudioTheme 2.3.8
BEGIN:VEVENT
UID:urn:uuid:2f677b4e-5cd3-4e74-8532-3fc955e8fea1
URL:https://mitchmcvicker.com/concerts/gig-2978/
DTSTART;VALUE=DATE:20031010
SUMMARY:Christian Family Centre
LOCATION:Christian Family Centre\, Adrian\, MI
END:VEVENT
END:VCALENDAR
