BEGIN:VCALENDAR
VERSION:2.0
PRODID:-//AudioTheme 2.3.8
BEGIN:VEVENT
UID:urn:uuid:de78f677-d966-4f6a-8986-427cc9511af9
URL:https://mitchmcvicker.com/concerts/gig-2976/
DTSTART;VALUE=DATE:20031004
SUMMARY:First Assembly of God
LOCATION:First Assembly of God\, Fargo\, ND
END:VEVENT
END:VCALENDAR
