BEGIN:VCALENDAR
VERSION:2.0
PRODID:-//AudioTheme 2.3.8
BEGIN:VEVENT
UID:urn:uuid:e7f7f737-764b-42dc-9f41-15d81aced993
URL:https://mitchmcvicker.com/concerts/gig-2974/
DTSTART;VALUE=DATE:20031003
SUMMARY:First Assembly of God
LOCATION:First Assembly of God\, Sioux Falls\, SD
END:VEVENT
END:VCALENDAR
