BEGIN:VCALENDAR
VERSION:2.0
PRODID:-//AudioTheme 2.3.8
BEGIN:VEVENT
UID:urn:uuid:b2a67a79-17ff-4b11-a6e8-917f5007fcda
URL:https://mitchmcvicker.com/concerts/gig-2970/
DTSTART;VALUE=DATE:20030928
SUMMARY:Jefferson Elementary School
LOCATION:Jefferson Elementary School\, Jefferson\, OH
END:VEVENT
END:VCALENDAR
